BEGIN:VCALENDAR
VERSION:2.0
PRODID:-//Associação de Atletismo de Lisboa - ECPv6.9.0//NONSGML v1.0//EN
CALSCALE:GREGORIAN
METHOD:PUBLISH
X-WR-CALNAME:Associação de Atletismo de Lisboa
X-ORIGINAL-URL:https://aalisboa.com.pt/2023
X-WR-CALDESC:Events for Associação de Atletismo de Lisboa
REFRESH-INTERVAL;VALUE=DURATION:PT1H
X-Robots-Tag:noindex
X-PUBLISHED-TTL:PT1H
BEGIN:VTIMEZONE
TZID:Europe/Lisbon
BEGIN:DAYLIGHT
TZOFFSETFROM:+0000
TZOFFSETTO:+0100
TZNAME:WEST
DTSTART:20240331T010000
END:DAYLIGHT
BEGIN:STANDARD
TZOFFSETFROM:+0100
TZOFFSETTO:+0000
TZNAME:WET
DTSTART:20241027T010000
END:STANDARD
END:VTIMEZONE
BEGIN:VEVENT
DTSTART;TZID=Europe/Lisbon:20240501T140000
DTEND;TZID=Europe/Lisbon:20240501T180000
DTSTAMP:20260422T231256
CREATED:20240322T140702Z
LAST-MODIFIED:20240322T142606Z
UID:961-1714572000-1714586400@aalisboa.com.pt
SUMMARY:Meeting Trabalhador
DESCRIPTION:
URL:https://aalisboa.com.pt/2023/event/meeting-trabalhador/
END:VEVENT
BEGIN:VEVENT
DTSTART;TZID=Europe/Lisbon:20240504T000000
DTEND;TZID=Europe/Lisbon:20240504T000000
DTSTAMP:20260422T231256
CREATED:20240322T140815Z
LAST-MODIFIED:20240322T140815Z
UID:965-1714780800-1714780800@aalisboa.com.pt
SUMMARY:Milha Urbana "Falagueira Jovem" 2024 / Campeonato de Lisboa Milha
DESCRIPTION:
URL:https://aalisboa.com.pt/2023/event/milha-urbana-falagueira-jovem-2024-campeonato-de-lisboa-milha/
END:VEVENT
BEGIN:VEVENT
DTSTART;TZID=Europe/Lisbon:20240504T000000
DTEND;TZID=Europe/Lisbon:20240505T000000
DTSTAMP:20260422T231256
CREATED:20240322T140728Z
LAST-MODIFIED:20240322T140728Z
UID:963-1714780800-1714867200@aalisboa.com.pt
SUMMARY:Olímpico Jovem - Fase apuramento Regional - OctaKids V
DESCRIPTION:
URL:https://aalisboa.com.pt/2023/event/olimpico-jovem-fase-apuramento-regional-octakids-v/
END:VEVENT
BEGIN:VEVENT
DTSTART;TZID=Europe/Lisbon:20240511T000000
DTEND;TZID=Europe/Lisbon:20240511T000000
DTSTAMP:20260422T231256
CREATED:20240322T140908Z
LAST-MODIFIED:20240322T140908Z
UID:969-1715385600-1715385600@aalisboa.com.pt
SUMMARY:Milha José Caldas
DESCRIPTION:
URL:https://aalisboa.com.pt/2023/event/milha-jose-caldas/
END:VEVENT
BEGIN:VEVENT
DTSTART;TZID=Europe/Lisbon:20240511T000000
DTEND;TZID=Europe/Lisbon:20240512T000000
DTSTAMP:20260422T231256
CREATED:20240322T140845Z
LAST-MODIFIED:20240322T140845Z
UID:967-1715385600-1715472000@aalisboa.com.pt
SUMMARY:Campeonatos Regionais de S18 + Preparação
DESCRIPTION:
URL:https://aalisboa.com.pt/2023/event/campeonatos-regionais-de-s18-preparacao/
END:VEVENT
BEGIN:VEVENT
DTSTART;TZID=Europe/Lisbon:20240512T000000
DTEND;TZID=Europe/Lisbon:20240512T000000
DTSTAMP:20260422T231256
CREATED:20240322T140949Z
LAST-MODIFIED:20240322T140949Z
UID:971-1715472000-1715472000@aalisboa.com.pt
SUMMARY:Milha Urbana de São Domingos de Rana
DESCRIPTION:
URL:https://aalisboa.com.pt/2023/event/milha-urbana-de-sao-domingos-de-rana/
CATEGORIES:Estrada
END:VEVENT
BEGIN:VEVENT
DTSTART;TZID=Europe/Lisbon:20240518T000000
DTEND;TZID=Europe/Lisbon:20240518T000000
DTSTAMP:20260422T231256
CREATED:20240322T141011Z
LAST-MODIFIED:20240322T141011Z
UID:973-1715990400-1715990400@aalisboa.com.pt
SUMMARY:Meeting Cidade de Lisboa - Memorial Moniz Pereira
DESCRIPTION:
URL:https://aalisboa.com.pt/2023/event/meeting-cidade-de-lisboa-memorial-moniz-pereira/
CATEGORIES:Pista
END:VEVENT
BEGIN:VEVENT
DTSTART;TZID=Europe/Lisbon:20240519T000000
DTEND;TZID=Europe/Lisbon:20240519T000000
DTSTAMP:20260422T231256
CREATED:20240410T130859Z
LAST-MODIFIED:20240410T130859Z
UID:1017-1716076800-1716076800@aalisboa.com.pt
SUMMARY:V Jornada de Pista - Meeting Jovem de Penafirme- OctaKids VI
DESCRIPTION:
URL:https://aalisboa.com.pt/2023/event/v-jornada-de-pista-meeting-jovem-de-penafirme-octakids-vi/
LOCATION:Torres Vedras\, Rua António Leal D'ascenção 34\, 2560-683 Torres Vedras\, Torres Vedras\, Portugal
CATEGORIES:Pista
END:VEVENT
BEGIN:VEVENT
DTSTART;TZID=Europe/Lisbon:20240525T000000
DTEND;TZID=Europe/Lisbon:20240525T000000
DTSTAMP:20260422T231256
CREATED:20240322T140526Z
LAST-MODIFIED:20240410T134228Z
UID:957-1716595200-1716595200@aalisboa.com.pt
SUMMARY:GP Corrida Festa Anual - Freixoeira Torres Vedras
DESCRIPTION:
URL:https://aalisboa.com.pt/2023/event/gp-corrida-festa-anual-freixoeira-torres-vedras/
LOCATION:Torres Vedras\, Rua António Leal D'ascenção 34\, 2560-683 Torres Vedras\, Torres Vedras\, Portugal
END:VEVENT
BEGIN:VEVENT
DTSTART;TZID=Europe/Lisbon:20240525T000000
DTEND;TZID=Europe/Lisbon:20240525T000000
DTSTAMP:20260422T231256
CREATED:20240410T131752Z
LAST-MODIFIED:20240410T134210Z
UID:1019-1716595200-1716595200@aalisboa.com.pt
SUMMARY:IV Meeting Eduardo Cunha + Campeonatos Regionais Sub16 (1ª Jornada)
DESCRIPTION:
URL:https://aalisboa.com.pt/2023/event/iv-meeting-eduardo-cunha-campeonatos-regionais-sub16-1a-jornada/
LOCATION:Lisboa
CATEGORIES:Pista
END:VEVENT
BEGIN:VEVENT
DTSTART;TZID=Europe/Lisbon:20240525T080000
DTEND;TZID=Europe/Lisbon:20240525T170000
DTSTAMP:20260422T231256
CREATED:20240410T132226Z
LAST-MODIFIED:20240410T134142Z
UID:1021-1716624000-1716656400@aalisboa.com.pt
SUMMARY:Kid´s Athletics
DESCRIPTION:
URL:https://aalisboa.com.pt/2023/event/kids-athletics-2/
LOCATION:loures
END:VEVENT
BEGIN:VEVENT
DTSTART;TZID=Europe/Lisbon:20240526T000000
DTEND;TZID=Europe/Lisbon:20240526T000000
DTSTAMP:20260422T231256
CREATED:20240410T132428Z
LAST-MODIFIED:20240410T134124Z
UID:1023-1716681600-1716681600@aalisboa.com.pt
SUMMARY:Meeting da Inclusão + Campeonatos Regionais Sub16 (2ª Jornada)
DESCRIPTION:
URL:https://aalisboa.com.pt/2023/event/meeting-da-inclusao-campeonatos-regionais-sub16-2a-jornada/
LOCATION:Lisboa
CATEGORIES:Pista
END:VEVENT
END:VCALENDAR