BEGIN:VCALENDAR
VERSION:2.0
PRODID:-//Associação de Atletismo de Lisboa - ECPv6.9.0//NONSGML v1.0//EN
CALSCALE:GREGORIAN
METHOD:PUBLISH
X-WR-CALNAME:Associação de Atletismo de Lisboa
X-ORIGINAL-URL:https://aalisboa.com.pt/2023
X-WR-CALDESC:Events for Associação de Atletismo de Lisboa
REFRESH-INTERVAL;VALUE=DURATION:PT1H
X-Robots-Tag:noindex
X-PUBLISHED-TTL:PT1H
BEGIN:VTIMEZONE
TZID:Europe/Lisbon
BEGIN:DAYLIGHT
TZOFFSETFROM:+0000
TZOFFSETTO:+0100
TZNAME:WEST
DTSTART:20230326T010000
END:DAYLIGHT
BEGIN:STANDARD
TZOFFSETFROM:+0100
TZOFFSETTO:+0000
TZNAME:WET
DTSTART:20231029T010000
END:STANDARD
END:VTIMEZONE
BEGIN:VEVENT
DTSTART;TZID=Europe/Lisbon:20231007T160000
DTEND;TZID=Europe/Lisbon:20231007T173000
DTSTAMP:20260423T011625
CREATED:20231007T130832Z
LAST-MODIFIED:20231008T015432Z
UID:504-1696694400-1696699800@aalisboa.com.pt
SUMMARY:Taça Rafael Marques | EDP New Generations (Mini Campeões)
DESCRIPTION:
URL:https://aalisboa.com.pt/2023/event/taca-rafael-marques-edp-new-generations-mini-campeoes/
LOCATION:Parque das Nações\, Parque das Nações\, Lisboa\, Portugal
CATEGORIES:Estrada
ATTACH;FMTTYPE=image/png:https://aalisboa.com.pt/2023/wp-content/uploads/2023/10/Taca-Rafael-Marques-EDP-New-Generations-Mini-Campeoes.png
END:VEVENT
BEGIN:VEVENT
DTSTART;TZID=Europe/Lisbon:20231011T190000
DTEND;TZID=Europe/Lisbon:20231011T220000
DTSTAMP:20260423T011625
CREATED:20231008T030516Z
LAST-MODIFIED:20231008T030516Z
UID:562-1697050800-1697061600@aalisboa.com.pt
SUMMARY:9ª Noites Quentes do Restelo
DESCRIPTION:
URL:https://aalisboa.com.pt/2023/event/9a-noites-quentes-do-restelo/
LOCATION:Estádio do Restelo\, Praceta Torres do Restelo\, Lisboa\, Lisboa\, 1449-015\, Portugal
CATEGORIES:Estrada
ATTACH;FMTTYPE=image/jpeg:https://aalisboa.com.pt/2023/wp-content/uploads/2023/10/9-Noites-Quentes-do-Restelo.jpg
END:VEVENT
END:VCALENDAR