BEGIN:VCALENDAR
VERSION:2.0
PRODID:-//Associação de Atletismo de Lisboa - ECPv6.9.0//NONSGML v1.0//EN
CALSCALE:GREGORIAN
METHOD:PUBLISH
X-ORIGINAL-URL:https://aalisboa.com.pt/2023
X-WR-CALDESC:Events for Associação de Atletismo de Lisboa
REFRESH-INTERVAL;VALUE=DURATION:PT1H
X-Robots-Tag:noindex
X-PUBLISHED-TTL:PT1H
BEGIN:VTIMEZONE
TZID:Europe/Lisbon
BEGIN:DAYLIGHT
TZOFFSETFROM:+0000
TZOFFSETTO:+0100
TZNAME:WEST
DTSTART:20240331T010000
END:DAYLIGHT
BEGIN:STANDARD
TZOFFSETFROM:+0100
TZOFFSETTO:+0000
TZNAME:WET
DTSTART:20241027T010000
END:STANDARD
END:VTIMEZONE
BEGIN:VEVENT
DTSTART;TZID=Europe/Lisbon:20240504T000000
DTEND;TZID=Europe/Lisbon:20240505T000000
DTSTAMP:20260423T004341
CREATED:20240322T140728Z
LAST-MODIFIED:20240322T140728Z
UID:963-1714780800-1714867200@aalisboa.com.pt
SUMMARY:Olímpico Jovem - Fase apuramento Regional - OctaKids V
DESCRIPTION:
URL:https://aalisboa.com.pt/2023/event/olimpico-jovem-fase-apuramento-regional-octakids-v/
END:VEVENT
END:VCALENDAR