BEGIN:VCALENDAR
VERSION:2.0
PRODID:-//Associação de Atletismo de Lisboa - ECPv6.9.0//NONSGML v1.0//EN
CALSCALE:GREGORIAN
METHOD:PUBLISH
X-ORIGINAL-URL:https://aalisboa.com.pt/2023
X-WR-CALDESC:Events for Associação de Atletismo de Lisboa
REFRESH-INTERVAL;VALUE=DURATION:PT1H
X-Robots-Tag:noindex
X-PUBLISHED-TTL:PT1H
BEGIN:VTIMEZONE
TZID:Europe/Lisbon
BEGIN:DAYLIGHT
TZOFFSETFROM:+0000
TZOFFSETTO:+0100
TZNAME:WEST
DTSTART:20240331T010000
END:DAYLIGHT
BEGIN:STANDARD
TZOFFSETFROM:+0100
TZOFFSETTO:+0000
TZNAME:WET
DTSTART:20241027T010000
END:STANDARD
END:VTIMEZONE
BEGIN:VEVENT
DTSTART;TZID=Europe/Lisbon:20240421T090000
DTEND;TZID=Europe/Lisbon:20240421T170000
DTSTAMP:20260422T133220
CREATED:20240318T120027Z
LAST-MODIFIED:20240328T132713Z
UID:921-1713690000-1713718800@aalisboa.com.pt
SUMMARY:Campeonatos Regionais de Infantis e Benjamins - OctaKids III
DESCRIPTION:
URL:https://aalisboa.com.pt/2023/event/campeonatos-regionais-de-infantis-e-benjamins-octakids-iii/
LOCATION:Pista Professor Moniz Pereira
END:VEVENT
END:VCALENDAR