BEGIN:VCALENDAR
VERSION:2.0
PRODID:-//Associação de Atletismo de Lisboa - ECPv6.9.0//NONSGML v1.0//EN
CALSCALE:GREGORIAN
METHOD:PUBLISH
X-ORIGINAL-URL:https://aalisboa.com.pt/2023
X-WR-CALDESC:Events for Associação de Atletismo de Lisboa
REFRESH-INTERVAL;VALUE=DURATION:PT1H
X-Robots-Tag:noindex
X-PUBLISHED-TTL:PT1H
BEGIN:VTIMEZONE
TZID:Europe/Lisbon
BEGIN:DAYLIGHT
TZOFFSETFROM:+0000
TZOFFSETTO:+0100
TZNAME:WEST
DTSTART:20240331T010000
END:DAYLIGHT
BEGIN:STANDARD
TZOFFSETFROM:+0100
TZOFFSETTO:+0000
TZNAME:WET
DTSTART:20241027T010000
END:STANDARD
END:VTIMEZONE
BEGIN:VEVENT
DTSTART;TZID=Europe/Lisbon:20240413T080000
DTEND;TZID=Europe/Lisbon:20240414T170000
DTSTAMP:20260420T065903
CREATED:20240318T115952Z
LAST-MODIFIED:20240318T115952Z
UID:919-1712995200-1713114000@aalisboa.com.pt
SUMMARY:Atleta Completo - Fase Regional (S14/S16/S18)
DESCRIPTION:
URL:https://aalisboa.com.pt/2023/event/atleta-completo-fase-regional-s14-s16-s18/
LOCATION:Pista Professor Moniz Pereira
END:VEVENT
BEGIN:VEVENT
DTSTART;TZID=Europe/Lisbon:20240413T100000
DTEND;TZID=Europe/Lisbon:20240413T120000
DTSTAMP:20260420T065903
CREATED:20240318T120331Z
LAST-MODIFIED:20240318T120331Z
UID:929-1713002400-1713009600@aalisboa.com.pt
SUMMARY:Falagueira Kids Athletics - Escola Secundária Mães de Água
DESCRIPTION:
URL:https://aalisboa.com.pt/2023/event/falagueira-kids-athletics-escola-secundaria-maes-de-agua/
LOCATION:Amadora
END:VEVENT
END:VCALENDAR