BEGIN:VCALENDAR
VERSION:2.0
PRODID:-//Associação de Atletismo de Lisboa - ECPv6.9.0//NONSGML v1.0//EN
CALSCALE:GREGORIAN
METHOD:PUBLISH
X-WR-CALNAME:Associação de Atletismo de Lisboa
X-ORIGINAL-URL:https://aalisboa.com.pt/2023
X-WR-CALDESC:Events for Associação de Atletismo de Lisboa
REFRESH-INTERVAL;VALUE=DURATION:PT1H
X-Robots-Tag:noindex
X-PUBLISHED-TTL:PT1H
BEGIN:VTIMEZONE
TZID:Europe/Lisbon
BEGIN:DAYLIGHT
TZOFFSETFROM:+0000
TZOFFSETTO:+0100
TZNAME:WEST
DTSTART:20240331T010000
END:DAYLIGHT
BEGIN:STANDARD
TZOFFSETFROM:+0100
TZOFFSETTO:+0000
TZNAME:WET
DTSTART:20241027T010000
END:STANDARD
END:VTIMEZONE
BEGIN:VEVENT
DTSTART;TZID=Europe/Lisbon:20240317T100000
DTEND;TZID=Europe/Lisbon:20240317T180000
DTSTAMP:20260419T185214
CREATED:20240223T153210Z
LAST-MODIFIED:20240223T153210Z
UID:886-1710669600-1710698400@aalisboa.com.pt
SUMMARY:III Jornada de Pista - Meeting Jovem do SCUT - OctaKids II
DESCRIPTION:
URL:https://aalisboa.com.pt/2023/event/iii-jornada-de-pista-meeting-jovem-do-scut-octakids-ii/
LOCATION:Torres Vedras\, Rua António Leal D'ascenção 34\, 2560-683 Torres Vedras\, Torres Vedras\, Portugal
END:VEVENT
END:VCALENDAR