BEGIN:VCALENDAR
VERSION:2.0
PRODID:-//Associação de Atletismo de Lisboa - ECPv6.9.0//NONSGML v1.0//EN
CALSCALE:GREGORIAN
METHOD:PUBLISH
X-ORIGINAL-URL:https://aalisboa.com.pt/2023
X-WR-CALDESC:Events for Associação de Atletismo de Lisboa
REFRESH-INTERVAL;VALUE=DURATION:PT1H
X-Robots-Tag:noindex
X-PUBLISHED-TTL:PT1H
BEGIN:VTIMEZONE
TZID:Europe/Lisbon
BEGIN:DAYLIGHT
TZOFFSETFROM:+0000
TZOFFSETTO:+0100
TZNAME:WEST
DTSTART:20230326T010000
END:DAYLIGHT
BEGIN:STANDARD
TZOFFSETFROM:+0100
TZOFFSETTO:+0000
TZNAME:WET
DTSTART:20231029T010000
END:STANDARD
END:VTIMEZONE
BEGIN:VEVENT
DTSTART;TZID=Europe/Lisbon:20231008T080000
DTEND;TZID=Europe/Lisbon:20231008T170000
DTSTAMP:20260422T171713
CREATED:20231008T015508Z
LAST-MODIFIED:20231008T015508Z
UID:550-1696752000-1696784400@aalisboa.com.pt
SUMMARY:Campeonato Regional de Maratona e Meia Maratona
DESCRIPTION:
URL:https://aalisboa.com.pt/2023/event/campeonato-regional-de-maratona-e-meia-maratona/
END:VEVENT
END:VCALENDAR